BEGIN:VCALENDAR
VERSION:2.0
PRODID:-//Tukios.com/
BEGIN:VEVENT
UID:74ed9069-1c87-4940-b352-749cd1bc84d4@www.jonesfamilymortuary.com
DTSTAMP:20260423T193802Z
DTSTART:20260429T190000Z
DTEND:20260429T193000Z
SUMMARY:Memorial Service
DESCRIPTION:
URL:https://www.jonesfamilymortuary.com/obituaries/terry-cordray
LOCATION:Jones Family Funeral and Cremation Service 4165 East Allison 
	Road  Mooresville IN 46158
GEO:39.62397;-86.3515583
END:VEVENT
END:VCALENDAR