BEGIN:VCALENDAR
VERSION:2.0
PRODID:-//Tukios.com/
BEGIN:VEVENT
UID:310e3a6c-cdf4-4f3c-8f4e-c7c4c8ae3871@www.jonesfamilymortuary.com
DTSTAMP:20260423T193618Z
DTSTART:20260429T170000Z
DTEND:20260429T190000Z
SUMMARY:Memorial Gathering
DESCRIPTION:
URL:https://www.jonesfamilymortuary.com/obituaries/terry-cordray
LOCATION:     
GEO:39.62397;-86.3515583
END:VEVENT
END:VCALENDAR