BEGIN:VCALENDAR
VERSION:2.0
PRODID:-//Tukios.com/
BEGIN:VEVENT
UID:0fd9189e-ef8f-4f21-b41d-9246fdd9cce2@www.jonesfamilymortuary.com
DTSTAMP:20260423T193618Z
DTSTART:20260429T193000Z
DTEND:20260429T200000Z
SUMMARY:Graveside Service
DESCRIPTION:
URL:https://www.jonesfamilymortuary.com/obituaries/terry-cordray
LOCATION:West Newton Cemetery   West Newton IN 
GEO:40.2097933;-79.7669884
END:VEVENT
END:VCALENDAR